BEGIN:VCALENDAR
VERSION:2.0
PRODID:-//St. Mary&#039;s Catholic Church - ECPv6.9.0//NONSGML v1.0//EN
CALSCALE:GREGORIAN
METHOD:PUBLISH
X-ORIGINAL-URL:https://www.stmarysgy.org.uk
X-WR-CALDESC:Events for St. Mary&#039;s Catholic Church
REFRESH-INTERVAL;VALUE=DURATION:PT1H
X-Robots-Tag:noindex
X-PUBLISHED-TTL:PT1H
BEGIN:VTIMEZONE
TZID:Europe/London
BEGIN:DAYLIGHT
TZOFFSETFROM:+0000
TZOFFSETTO:+0100
TZNAME:BST
DTSTART:20240331T010000
END:DAYLIGHT
BEGIN:STANDARD
TZOFFSETFROM:+0100
TZOFFSETTO:+0000
TZNAME:GMT
DTSTART:20241027T010000
END:STANDARD
END:VTIMEZONE
BEGIN:VEVENT
DTSTART;TZID=Europe/London:20240207T120000
DTEND;TZID=Europe/London:20240207T133000
DTSTAMP:20260421T175510
CREATED:20240113T075459Z
LAST-MODIFIED:20240115T131043Z
UID:2380-1707307200-1707312600@www.stmarysgy.org.uk
SUMMARY:Geoffrey Paul Davis R.I.P.
DESCRIPTION:Geoffrey's body will come into St Mary's Church on Tuesday 6th February 2024 at 4:30pm.\nGeoffrey's Funeral Mass will take place on Wednesday 7th February 2024 at 12:00.
URL:https://www.stmarysgy.org.uk/event/geoffrey-paul-davis-r-i-p/
LOCATION:St. Mary's Church\, Regent Road\, Great Yarmouth\, Norfolk\, NR30 2AJ\, United Kingdom
CATEGORIES:Funeral
END:VEVENT
BEGIN:VEVENT
DTSTART;VALUE=DATE:20240217
DTEND;VALUE=DATE:20240219
DTSTAMP:20260421T175510
CREATED:20240127T184145Z
LAST-MODIFIED:20240127T184145Z
UID:2415-1708128000-1708300799@www.stmarysgy.org.uk
SUMMARY:SMMM Financial Appeal for the training of SMMM Seminarians
DESCRIPTION:SMMM Financial Appeal for the training of SMMM Seminarians\, we will hold this appeal on the weekend of 17th and 18th of February in our two parishes and Mass centres.\nPlease our dear parishioners and friends\, this appeal is in place of 2023’s which did not hold for some reasons. The SMMM is counting on your usual generosity and will ever remain grateful to you as you honour this request.
URL:https://www.stmarysgy.org.uk/event/smmm-financial-appeal-for-the-training-of-smmm-seminarians/
LOCATION:All Parishes & Mass Centres
END:VEVENT
BEGIN:VEVENT
DTSTART;TZID=Europe/London:20240228T190000
DTEND;TZID=Europe/London:20240228T210000
DTSTAMP:20260421T175510
CREATED:20240127T181934Z
LAST-MODIFIED:20240127T181934Z
UID:2401-1709146800-1709154000@www.stmarysgy.org.uk
SUMMARY:St. Mary's Parish Council
DESCRIPTION:
URL:https://www.stmarysgy.org.uk/event/st-marys-parish-council/
LOCATION:St. Mary's Church Hall\, Regent Road\, Great Yarmouth\, Norfolk\, NR30 2AJ\, United Kingdom
CATEGORIES:Parish Pastoral Council
END:VEVENT
END:VCALENDAR