BEGIN:VCALENDAR
VERSION:2.0
PRODID:-//St. Mary&#039;s Catholic Church - ECPv6.9.0//NONSGML v1.0//EN
CALSCALE:GREGORIAN
METHOD:PUBLISH
X-WR-CALNAME:St. Mary&#039;s Catholic Church
X-ORIGINAL-URL:https://www.stmarysgy.org.uk
X-WR-CALDESC:Events for St. Mary&#039;s Catholic Church
REFRESH-INTERVAL;VALUE=DURATION:PT1H
X-Robots-Tag:noindex
X-PUBLISHED-TTL:PT1H
BEGIN:VTIMEZONE
TZID:Europe/London
BEGIN:DAYLIGHT
TZOFFSETFROM:+0000
TZOFFSETTO:+0100
TZNAME:BST
DTSTART:20230326T010000
END:DAYLIGHT
BEGIN:STANDARD
TZOFFSETFROM:+0100
TZOFFSETTO:+0000
TZNAME:GMT
DTSTART:20231029T010000
END:STANDARD
END:VTIMEZONE
BEGIN:VEVENT
DTSTART;TZID=Europe/London:20230604T110000
DTEND;TZID=Europe/London:20230604T120000
DTSTAMP:20260422T182421
CREATED:20230119T104158Z
LAST-MODIFIED:20230119T143307Z
UID:1939-1685876400-1685880000@www.stmarysgy.org.uk
SUMMARY:Mass for the intentions of the Roof Slates
DESCRIPTION:Mass for the intentions of the Roof Slates will take place today at St. Mary's Church. \nThis will be an annual event in St Mary's Calendar and will take place on the 1st Sunday in June every year. \nMass will be offered for the Sponsors of the slates and also for their intentions who have their names on the slates.
URL:https://www.stmarysgy.org.uk/event/funeral-mass-joyce-hastings/
LOCATION:St. Mary's Church\, Regent Road\, Great Yarmouth\, Norfolk\, NR30 2AJ\, United Kingdom
CATEGORIES:Celebration Mass
END:VEVENT
BEGIN:VEVENT
DTSTART;TZID=Europe/London:20230610T150000
DTEND;TZID=Europe/London:20230610T170000
DTSTAMP:20260422T182421
CREATED:20230507T063717Z
LAST-MODIFIED:20230507T064525Z
UID:2108-1686409200-1686416400@www.stmarysgy.org.uk
SUMMARY:First Holy Communion Mass
DESCRIPTION:
URL:https://www.stmarysgy.org.uk/event/first-holy-communion-mass/
LOCATION:St. Mary's Church\, Regent Road\, Great Yarmouth\, Norfolk\, NR30 2AJ\, United Kingdom
CATEGORIES:Celebration Mass
END:VEVENT
BEGIN:VEVENT
DTSTART;TZID=Europe/London:20230611T110000
DTEND;TZID=Europe/London:20230611T130000
DTSTAMP:20260422T182421
CREATED:20230507T064644Z
LAST-MODIFIED:20230507T064947Z
UID:2117-1686481200-1686488400@www.stmarysgy.org.uk
SUMMARY:First Holy Communion Mass
DESCRIPTION:
URL:https://www.stmarysgy.org.uk/event/first-holy-communion-mass-2/
LOCATION:St. Mary's Church\, Regent Road\, Great Yarmouth\, Norfolk\, NR30 2AJ\, United Kingdom
CATEGORIES:Celebration Mass
END:VEVENT
BEGIN:VEVENT
DTSTART;TZID=Europe/London:20230617T190000
DTEND;TZID=Europe/London:20230617T220000
DTSTAMP:20260422T182421
CREATED:20230119T095919Z
LAST-MODIFIED:20230514T061701Z
UID:1923-1687028400-1687039200@www.stmarysgy.org.uk
SUMMARY:Music for a Summer Evening
DESCRIPTION:Soprano Hannah Long \nAccompanist Jason Lambert \nAt St. Mary's Church\, Regent Road\, Great Yarmouth \nTickets are priced at £10.00 for adults & £5.00 for concessions \nTicket price also includes refreshments.
URL:https://www.stmarysgy.org.uk/event/music-for-a-summer-evening/
LOCATION:Norfolk
CATEGORIES:Concert
END:VEVENT
END:VCALENDAR