BEGIN:VCALENDAR
VERSION:2.0
PRODID:-//St. Mary&#039;s Catholic Church - ECPv6.9.0//NONSGML v1.0//EN
CALSCALE:GREGORIAN
METHOD:PUBLISH
X-WR-CALNAME:St. Mary&#039;s Catholic Church
X-ORIGINAL-URL:https://www.stmarysgy.org.uk
X-WR-CALDESC:Events for St. Mary&#039;s Catholic Church
REFRESH-INTERVAL;VALUE=DURATION:PT1H
X-Robots-Tag:noindex
X-PUBLISHED-TTL:PT1H
BEGIN:VTIMEZONE
TZID:Europe/London
BEGIN:DAYLIGHT
TZOFFSETFROM:+0000
TZOFFSETTO:+0100
TZNAME:BST
DTSTART:20230326T010000
END:DAYLIGHT
BEGIN:STANDARD
TZOFFSETFROM:+0100
TZOFFSETTO:+0000
TZNAME:GMT
DTSTART:20231029T010000
END:STANDARD
END:VTIMEZONE
BEGIN:VEVENT
DTSTART;TZID=Europe/London:20230125T120000
DTEND;TZID=Europe/London:20230125T130000
DTSTAMP:20260422T233723
CREATED:20230119T103214Z
LAST-MODIFIED:20230119T111213Z
UID:1931-1674648000-1674651600@www.stmarysgy.org.uk
SUMMARY:Funeral Mass
DESCRIPTION:Pat Miller
URL:https://www.stmarysgy.org.uk/event/funeral-mass-pat-miller/
LOCATION:St. Mary's Church\, Regent Road\, Great Yarmouth\, Norfolk\, NR30 2AJ\, United Kingdom
CATEGORIES:Funeral
END:VEVENT
END:VCALENDAR