BEGIN:VCALENDAR
VERSION:2.0
PRODID:-//St. Mary&#039;s Catholic Church - ECPv6.9.0//NONSGML v1.0//EN
CALSCALE:GREGORIAN
METHOD:PUBLISH
X-WR-CALNAME:St. Mary&#039;s Catholic Church
X-ORIGINAL-URL:https://www.stmarysgy.org.uk
X-WR-CALDESC:Events for St. Mary&#039;s Catholic Church
REFRESH-INTERVAL;VALUE=DURATION:PT1H
X-Robots-Tag:noindex
X-PUBLISHED-TTL:PT1H
BEGIN:VTIMEZONE
TZID:Europe/London
BEGIN:DAYLIGHT
TZOFFSETFROM:+0000
TZOFFSETTO:+0100
TZNAME:BST
DTSTART:20230326T010000
END:DAYLIGHT
BEGIN:STANDARD
TZOFFSETFROM:+0100
TZOFFSETTO:+0000
TZNAME:GMT
DTSTART:20231029T010000
END:STANDARD
BEGIN:DAYLIGHT
TZOFFSETFROM:+0000
TZOFFSETTO:+0100
TZNAME:BST
DTSTART:20240331T010000
END:DAYLIGHT
BEGIN:STANDARD
TZOFFSETFROM:+0100
TZOFFSETTO:+0000
TZNAME:GMT
DTSTART:20241027T010000
END:STANDARD
END:VTIMEZONE
BEGIN:VEVENT
DTSTART;TZID=Europe/London:20240326T113000
DTEND;TZID=Europe/London:20240326T133000
DTSTAMP:20260420T060632
CREATED:20240127T183444Z
LAST-MODIFIED:20240127T183444Z
UID:2412-1711452600-1711459800@www.stmarysgy.org.uk
SUMMARY:Chrism Mass
DESCRIPTION:More details will be published nearer the time
URL:https://www.stmarysgy.org.uk/event/chrism-mass/
LOCATION:St. John the Baptist Cathedral\, Earlham Road\, Norwich\, Norfolk\, NR2 2PA\, United Kingdom
CATEGORIES:Bishop Peter Mass
END:VEVENT
BEGIN:VEVENT
DTSTART;TZID=Europe/London:20240319T113000
DTEND;TZID=Europe/London:20240319T153000
DTSTAMP:20260420T060632
CREATED:20240127T182826Z
LAST-MODIFIED:20240127T183624Z
UID:2404-1710847800-1710862200@www.stmarysgy.org.uk
SUMMARY:Bishop Alan's 80th Birthday Mass
DESCRIPTION:
URL:https://www.stmarysgy.org.uk/event/bishop-alans-80th-birthday-mass/
LOCATION:St. John the Baptist Cathedral\, Earlham Road\, Norwich\, Norfolk\, NR2 2PA\, United Kingdom
CATEGORIES:Celebration Mass
END:VEVENT
BEGIN:VEVENT
DTSTART;TZID=Europe/London:20240316T140000
DTEND;TZID=Europe/London:20240316T170000
DTSTAMP:20260420T060632
CREATED:20240302T181552Z
LAST-MODIFIED:20240302T181610Z
UID:2458-1710597600-1710608400@www.stmarysgy.org.uk
SUMMARY:Portuguese traditional hot food buffet
DESCRIPTION:A Portuguese traditional hot food buffet provided by the Portuguese Community of St Mary's will be in St Mary's Church Hall from 2pm. \nPlease come and support this event\, all proceeds are being donated to St. Mary's Church.
URL:https://www.stmarysgy.org.uk/event/%ef%83%98portuguese-traditional-hot-food-buffet/
LOCATION:St. Mary's Church Hall\, Regent Road\, Great Yarmouth\, Norfolk\, NR30 2AJ\, United Kingdom
CATEGORIES:Fund Raising Event
END:VEVENT
BEGIN:VEVENT
DTSTART;TZID=Europe/London:20240307T180000
DTEND;TZID=Europe/London:20240307T210000
DTSTAMP:20260420T060632
CREATED:20240127T183257Z
LAST-MODIFIED:20240302T182819Z
UID:2410-1709834400-1709845200@www.stmarysgy.org.uk
SUMMARY:Deanery Lenten Station Mass
DESCRIPTION:The evening begins begins with adoration/confession at 6 pm; \nThis is followed by Holy Mass with Bishop Peter Collins\, the Bishop of East Anglia at 7pm.  \nA Light Buffet (refreshment) will be provided after Mass in the hall at approximately 8 pm. \nPlease feel free to bring a plate of food on the day to share with other parishioners across the parishes in our Deanery.
URL:https://www.stmarysgy.org.uk/event/deanery-lenten-station-mass/
LOCATION:St. Mary's Church\, Regent Road\, Great Yarmouth\, Norfolk\, NR30 2AJ\, United Kingdom
CATEGORIES:Bishop Peter Mass
END:VEVENT
BEGIN:VEVENT
DTSTART;TZID=Europe/London:20240301T130000
DTEND;TZID=Europe/London:20240301T140000
DTSTAMP:20260420T060632
CREATED:20240224T180351Z
LAST-MODIFIED:20240224T180351Z
UID:2451-1709298000-1709301600@www.stmarysgy.org.uk
SUMMARY:Anne Teresa Thacker R.I.P.
DESCRIPTION:Anne Teresa Thacker who died recently\, may God grant her eternal rest and give consolation to her family and friends. Her Funeral Service (St Edmund’s Church\, Acle) will be on Friday 1st March 2024 at 1 pm.
URL:https://www.stmarysgy.org.uk/event/anne-teresa-thacker-r-i-p/
LOCATION:St. Edmunds CofE - Acle\, Norwich Rd\, Acle\, Norfolk\, NR13 3BY\, United Kingdom
CATEGORIES:Funeral
END:VEVENT
BEGIN:VEVENT
DTSTART;TZID=Europe/London:20240228T190000
DTEND;TZID=Europe/London:20240228T210000
DTSTAMP:20260420T060632
CREATED:20240127T181934Z
LAST-MODIFIED:20240127T181934Z
UID:2401-1709146800-1709154000@www.stmarysgy.org.uk
SUMMARY:St. Mary's Parish Council
DESCRIPTION:
URL:https://www.stmarysgy.org.uk/event/st-marys-parish-council/
LOCATION:St. Mary's Church Hall\, Regent Road\, Great Yarmouth\, Norfolk\, NR30 2AJ\, United Kingdom
CATEGORIES:Parish Pastoral Council
END:VEVENT
BEGIN:VEVENT
DTSTART;VALUE=DATE:20240217
DTEND;VALUE=DATE:20240219
DTSTAMP:20260420T060632
CREATED:20240127T184145Z
LAST-MODIFIED:20240127T184145Z
UID:2415-1708128000-1708300799@www.stmarysgy.org.uk
SUMMARY:SMMM Financial Appeal for the training of SMMM Seminarians
DESCRIPTION:SMMM Financial Appeal for the training of SMMM Seminarians\, we will hold this appeal on the weekend of 17th and 18th of February in our two parishes and Mass centres.\nPlease our dear parishioners and friends\, this appeal is in place of 2023’s which did not hold for some reasons. The SMMM is counting on your usual generosity and will ever remain grateful to you as you honour this request.
URL:https://www.stmarysgy.org.uk/event/smmm-financial-appeal-for-the-training-of-smmm-seminarians/
LOCATION:All Parishes & Mass Centres
END:VEVENT
BEGIN:VEVENT
DTSTART;TZID=Europe/London:20240207T120000
DTEND;TZID=Europe/London:20240207T133000
DTSTAMP:20260420T060632
CREATED:20240113T075459Z
LAST-MODIFIED:20240115T131043Z
UID:2380-1707307200-1707312600@www.stmarysgy.org.uk
SUMMARY:Geoffrey Paul Davis R.I.P.
DESCRIPTION:Geoffrey's body will come into St Mary's Church on Tuesday 6th February 2024 at 4:30pm.\nGeoffrey's Funeral Mass will take place on Wednesday 7th February 2024 at 12:00.
URL:https://www.stmarysgy.org.uk/event/geoffrey-paul-davis-r-i-p/
LOCATION:St. Mary's Church\, Regent Road\, Great Yarmouth\, Norfolk\, NR30 2AJ\, United Kingdom
CATEGORIES:Funeral
END:VEVENT
BEGIN:VEVENT
DTSTART;TZID=Europe/London:20240126T110000
DTEND;TZID=Europe/London:20240126T123000
DTSTAMP:20260420T060632
CREATED:20240113T074425Z
LAST-MODIFIED:20240115T075126Z
UID:2377-1706266800-1706272200@www.stmarysgy.org.uk
SUMMARY:Mr Charles Fredrick Honer (known as Carl) R.I.P.
DESCRIPTION:Carl's funeral service will be held in St Ignatius Church\, Caister on Friday 26th January at 11:00 am.
URL:https://www.stmarysgy.org.uk/event/mr-charles-fredrick-honer-known-as-carl/
LOCATION:St. Ignatius Loyola\, Ormesby Road\, Caister on Sea\, Norfolk\, NR30 5LJ\, United Kingdom
CATEGORIES:Funeral
END:VEVENT
BEGIN:VEVENT
DTSTART;TZID=Europe/London:20240125T120000
DTEND;TZID=Europe/London:20240125T133000
DTSTAMP:20260420T060632
CREATED:20240113T074057Z
LAST-MODIFIED:20240113T074057Z
UID:2373-1706184000-1706189400@www.stmarysgy.org.uk
SUMMARY:Patrick (Peter) Morris R.I.P.
DESCRIPTION:Patrick Morris (known as Peter).  \nPatrick's funeral service will be held in St Mary's on Thursday 25th January at 12:00 noon.
URL:https://www.stmarysgy.org.uk/event/patrick-peter-morris-r-i-p/
LOCATION:St. Mary's Church\, Regent Road\, Great Yarmouth\, Norfolk\, NR30 2AJ\, United Kingdom
CATEGORIES:Funeral
END:VEVENT
BEGIN:VEVENT
DTSTART;TZID=Europe/London:20240110T123000
DTEND;TZID=Europe/London:20240110T140000
DTSTAMP:20260420T060632
CREATED:20231224T075637Z
LAST-MODIFIED:20231224T075647Z
UID:2363-1704889800-1704895200@www.stmarysgy.org.uk
SUMMARY:Dora Scarles - R.I.P.
DESCRIPTION:Dora Scarles who passed away recently\, may God grant her eternal rest and give consolation to her family and friends. Her body will come into the Church (St Mary’s) on Tuesday 9th January at 4:30pm and the Funeral Mass on Wednesday 10th January at 12:30.
URL:https://www.stmarysgy.org.uk/event/dora-scarles-r-i-p/
LOCATION:St. Mary's Church\, Regent Road\, Great Yarmouth\, Norfolk\, NR30 2AJ\, United Kingdom
CATEGORIES:Funeral
END:VEVENT
BEGIN:VEVENT
DTSTART;TZID=Europe/London:20231221T140000
DTEND;TZID=Europe/London:20231221T150000
DTSTAMP:20260420T060632
CREATED:20231203T161715Z
LAST-MODIFIED:20231203T161715Z
UID:2348-1703167200-1703170800@www.stmarysgy.org.uk
SUMMARY:Judith Nichols - R.I.P.
DESCRIPTION:The funeral date will be on Thursday 21st December in St Mary's Church at 2:00 pm.
URL:https://www.stmarysgy.org.uk/event/judith-nichols-r-i-p/
LOCATION:St. Mary's Church\, Regent Road\, Great Yarmouth\, Norfolk\, NR30 2AJ\, United Kingdom
CATEGORIES:Funeral
END:VEVENT
BEGIN:VEVENT
DTSTART;TZID=Europe/London:20231216T103000
DTEND;TZID=Europe/London:20231216T150000
DTSTAMP:20260420T060632
CREATED:20231021T051743Z
LAST-MODIFIED:20231021T051743Z
UID:2299-1702722600-1702738800@www.stmarysgy.org.uk
SUMMARY:Christmas Fayre 2023
DESCRIPTION:The Christmas Fayre for St. Mary's Church will take place in the Church Hall at St. Mary's on Saturday 16 December 2023. The doors open after 10:00 mass through until 14:30 when we will have the Christmas Draw.
URL:https://www.stmarysgy.org.uk/event/christmas-fayre-2023/
LOCATION:St. Mary's Church Hall\, Regent Road\, Great Yarmouth\, Norfolk\, NR30 2AJ\, United Kingdom
END:VEVENT
BEGIN:VEVENT
DTSTART;TZID=Europe/London:20231127T100000
DTEND;TZID=Europe/London:20231127T110000
DTSTAMP:20260420T060632
CREATED:20231119T071302Z
LAST-MODIFIED:20231119T071310Z
UID:2329-1701079200-1701082800@www.stmarysgy.org.uk
SUMMARY:Marguerite Harman - R.I.P.
DESCRIPTION:Marguerite’s funeral will be at the Crematorium on Monday 27th November at 10:00 am.
URL:https://www.stmarysgy.org.uk/event/marguerite-harman-r-i-p/
LOCATION:Gorleston Crematorium\, Magdalen Cemetery - Oriel Avenue\, Gorleston On Sea\, Norfolk\, NR31 7JJ\, United Kingdom
CATEGORIES:Funeral
END:VEVENT
BEGIN:VEVENT
DTSTART;TZID=Europe/London:20231121T130000
DTEND;TZID=Europe/London:20231121T140000
DTSTAMP:20260420T060632
CREATED:20231119T072112Z
LAST-MODIFIED:20231119T072112Z
UID:2334-1700571600-1700575200@www.stmarysgy.org.uk
SUMMARY:William Dennis Kirwan - R.I.P.
DESCRIPTION:The funeral mass for Dennis will take place on Tuesday 21st November 2023 at 1.00 pm\nat St Edmund’s Church\, Acle.\nThis will be followed by a committal at Cantley Church. \nYou are all invited to this interment\,\nand a reception at the Cock Tavern\, Cantley.
URL:https://www.stmarysgy.org.uk/event/william-dennis-kirwan-r-i-p/
LOCATION:St. Edmunds CofE - Acle\, Norwich Rd\, Acle\, Norfolk\, NR13 3BY\, United Kingdom
CATEGORIES:Funeral
END:VEVENT
BEGIN:VEVENT
DTSTART;TZID=Europe/London:20230913T190000
DTEND;TZID=Europe/London:20230913T213000
DTSTAMP:20260420T060632
CREATED:20230813T053306Z
LAST-MODIFIED:20230813T053306Z
UID:2231-1694631600-1694640600@www.stmarysgy.org.uk
SUMMARY:Parish Council Meeting
DESCRIPTION:Wednesday 13 September 2023\, in the hall.
URL:https://www.stmarysgy.org.uk/event/parish-council-meeting/
LOCATION:St. Mary's Church Hall\, Regent Road\, Great Yarmouth\, Norfolk\, NR30 2AJ\, United Kingdom
CATEGORIES:Parish Pastoral Council
END:VEVENT
BEGIN:VEVENT
DTSTART;TZID=Europe/London:20230908T130000
DTEND;TZID=Europe/London:20230908T143000
DTSTAMP:20260420T060632
CREATED:20230827T063028Z
LAST-MODIFIED:20230827T063120Z
UID:2254-1694178000-1694183400@www.stmarysgy.org.uk
SUMMARY:Funeral Mass
DESCRIPTION:Margaret Cosburn\nThe funeral will take place on Friday 8 September at 1pm.
URL:https://www.stmarysgy.org.uk/event/funeral-mass-4/
LOCATION:St. Mary's Church\, Regent Road\, Great Yarmouth\, Norfolk\, NR30 2AJ\, United Kingdom
CATEGORIES:Funeral
END:VEVENT
BEGIN:VEVENT
DTSTART;TZID=Europe/London:20230823T100000
DTEND;TZID=Europe/London:20230823T233000
DTSTAMP:20260420T060632
CREATED:20230813T044333Z
LAST-MODIFIED:20230813T044333Z
UID:2221-1692784800-1692833400@www.stmarysgy.org.uk
SUMMARY:Funeral Mass
DESCRIPTION:Susanna Craig\nThe funeral will take place on Wednesday 23 August at 10:00am.
URL:https://www.stmarysgy.org.uk/event/funeral-mass-3/
LOCATION:St. Peter's Church - Gorleston\, Lowestoft Road\, Gorleston on Sea\, Norfolk\, NR31 6SQ\, United Kingdom
CATEGORIES:Funeral
END:VEVENT
BEGIN:VEVENT
DTSTART;TZID=Europe/London:20230820T090000
DTEND;TZID=Europe/London:20230820T220000
DTSTAMP:20260420T060632
CREATED:20230813T052539Z
LAST-MODIFIED:20230813T052539Z
UID:2226-1692522000-1692568800@www.stmarysgy.org.uk
SUMMARY:Brian Lafferty's Thanksgiving Mass
DESCRIPTION:Greetings\, seven (7) years ago\, almost to the day\, I received the diagnosis of Colon Cancer and was informed that I needed an operation on 1st November 2017 (All Saints Day). It turned out to be a surprisingly fitting day for such an event. Two years later\, I underwent surgery to remove a piece of my lung because a cancer cell had managed to survive the six months of chemotherapy and had settled there. The discovery was made by my surgeon the day after a routine scan. Since then\, I have been under the diligent care of Mr. Velchuru\, the surgeon referred to me by my GP. \nOn 1st August 2023\, I had another examination\, and I received the joyous news that I am now discharged and declared Cancer-free\, back to the care of my GP. \nThroughout this journey\, the support and kindness shown by countless individuals\, including many I have not even be aware of\, has been profoundly humbling. I am immensely grateful for all the prayers\, mass cards\, well-wishes\, and thoughts extended to me and my family over the years. \nOn Sunday 20 August 2023\, St. Mary's Sunday mass at 09:00 will be dedicated to everyone who helped and prayed for me and my family during my illness\, life would have been harder without your prayers and support\, Thank you. \nThere are far too many people to thank than I can get on this list but most importantly\, I need to thank Janice\, my rock during it all and my Surgeon\, Mr. Velchuru and the wonderful staff at the James Paget Hospital and the Norfolk & Norwich Hospital\, they are all aptly named 'Angels.'
URL:https://www.stmarysgy.org.uk/event/brian-laffertys-thanksgiving-mass/
LOCATION:St. Mary's Church\, Regent Road\, Great Yarmouth\, Norfolk\, NR30 2AJ\, United Kingdom
CATEGORIES:Celebration Mass
END:VEVENT
BEGIN:VEVENT
DTSTART;TZID=Europe/London:20230813T080000
DTEND;TZID=Europe/London:20230813T170000
DTSTAMP:20260420T060632
CREATED:20230813T054258Z
LAST-MODIFIED:20230813T055141Z
UID:2236-1691913600-1691946000@www.stmarysgy.org.uk
SUMMARY:Norfolk Churches Bike Ride
DESCRIPTION:The Bike Ride is on Saturday 9th September 2023 - our 40th Anniversary Bike Ride! \nHow to Take Part\nThere are two ways to take part. You can register online and download the paperwork below\, or you can collect paperwork from your local place of worship where you will find information and sponsorship forms from early July. \nIf you would like to help us spread the word about this fantastic event you can download posters and flyers to print and distribute. \nTo register to take part in the 2023 Bike Ride please click here \nDownload the A4 size poster here \nDownload the A5 size flyer here \nThere are several ways to fundraise on the day. If you would like to raise sponsorship we encourage you to use JustGiving. It is easy to use and allows you to let your friends and family know that you are taking part in the Bike Ride and Walk and can pay The Norfolk Churches Trust directly. If you would rather collect sponsorship directly and send money in\, you can download a sponsorship form with the required payslip here. \nIf you would prefer to give a donation for the Bike Ride you can either donate to us directly or use the other methods that we offer.
URL:https://www.stmarysgy.org.uk/event/norfolk-churches-bike-ride/
LOCATION:Norfolk
END:VEVENT
BEGIN:VEVENT
DTSTART;TZID=Europe/London:20230808T133000
DTEND;TZID=Europe/London:20230808T150000
DTSTAMP:20260420T060632
CREATED:20230806T060650Z
LAST-MODIFIED:20230806T063602Z
UID:2212-1691501400-1691506800@www.stmarysgy.org.uk
SUMMARY:Funeral Mass
DESCRIPTION:Jacqueline (Jackie) Rope\nThe funeral will take place on Tuesday 8 August. \nJackie's body will be received into the Church on Monday 7 August 2023 at 4.pm
URL:https://www.stmarysgy.org.uk/event/funeral-mass-2/
LOCATION:St. Mary's Church\, Regent Road\, Great Yarmouth\, Norfolk\, NR30 2AJ\, United Kingdom
CATEGORIES:Funeral
END:VEVENT
BEGIN:VEVENT
DTSTART;TZID=Europe/London:20230708T190000
DTEND;TZID=Europe/London:20230708T213000
DTSTAMP:20260420T060632
CREATED:20230219T082220Z
LAST-MODIFIED:20230312T075013Z
UID:2014-1688842800-1688851800@www.stmarysgy.org.uk
SUMMARY:GORLESTON COMMUNITY CHOIR PRESENTS - SONGS FROM THE HEART
DESCRIPTION:
URL:https://www.stmarysgy.org.uk/event/gorleston-community-choir/
LOCATION:St. Mary's Church\, Regent Road\, Great Yarmouth\, Norfolk\, NR30 2AJ\, United Kingdom
CATEGORIES:Concert
END:VEVENT
BEGIN:VEVENT
DTSTART;TZID=Europe/London:20230707T193000
DTEND;TZID=Europe/London:20230707T220000
DTSTAMP:20260420T060632
CREATED:20230219T083620Z
LAST-MODIFIED:20230219T083704Z
UID:2021-1688758200-1688767200@www.stmarysgy.org.uk
SUMMARY:Summer Concert - St Peters
DESCRIPTION:
URL:https://www.stmarysgy.org.uk/event/summer-concert/
LOCATION:St. Peter's Church - Gorleston\, Lowestoft Road\, Gorleston on Sea\, Norfolk\, NR31 6SQ\, United Kingdom
CATEGORIES:Concert
END:VEVENT
BEGIN:VEVENT
DTSTART;TZID=Europe/London:20230617T190000
DTEND;TZID=Europe/London:20230617T220000
DTSTAMP:20260420T060632
CREATED:20230119T095919Z
LAST-MODIFIED:20230514T061701Z
UID:1923-1687028400-1687039200@www.stmarysgy.org.uk
SUMMARY:Music for a Summer Evening
DESCRIPTION:Soprano Hannah Long \nAccompanist Jason Lambert \nAt St. Mary's Church\, Regent Road\, Great Yarmouth \nTickets are priced at £10.00 for adults & £5.00 for concessions \nTicket price also includes refreshments.
URL:https://www.stmarysgy.org.uk/event/music-for-a-summer-evening/
LOCATION:Norfolk
CATEGORIES:Concert
END:VEVENT
BEGIN:VEVENT
DTSTART;TZID=Europe/London:20230611T110000
DTEND;TZID=Europe/London:20230611T130000
DTSTAMP:20260420T060632
CREATED:20230507T064644Z
LAST-MODIFIED:20230507T064947Z
UID:2117-1686481200-1686488400@www.stmarysgy.org.uk
SUMMARY:First Holy Communion Mass
DESCRIPTION:
URL:https://www.stmarysgy.org.uk/event/first-holy-communion-mass-2/
LOCATION:St. Mary's Church\, Regent Road\, Great Yarmouth\, Norfolk\, NR30 2AJ\, United Kingdom
CATEGORIES:Celebration Mass
END:VEVENT
BEGIN:VEVENT
DTSTART;TZID=Europe/London:20230610T150000
DTEND;TZID=Europe/London:20230610T170000
DTSTAMP:20260420T060632
CREATED:20230507T063717Z
LAST-MODIFIED:20230507T064525Z
UID:2108-1686409200-1686416400@www.stmarysgy.org.uk
SUMMARY:First Holy Communion Mass
DESCRIPTION:
URL:https://www.stmarysgy.org.uk/event/first-holy-communion-mass/
LOCATION:St. Mary's Church\, Regent Road\, Great Yarmouth\, Norfolk\, NR30 2AJ\, United Kingdom
CATEGORIES:Celebration Mass
END:VEVENT
BEGIN:VEVENT
DTSTART;TZID=Europe/London:20230604T110000
DTEND;TZID=Europe/London:20230604T120000
DTSTAMP:20260420T060632
CREATED:20230119T104158Z
LAST-MODIFIED:20230119T143307Z
UID:1939-1685876400-1685880000@www.stmarysgy.org.uk
SUMMARY:Mass for the intentions of the Roof Slates
DESCRIPTION:Mass for the intentions of the Roof Slates will take place today at St. Mary's Church. \nThis will be an annual event in St Mary's Calendar and will take place on the 1st Sunday in June every year. \nMass will be offered for the Sponsors of the slates and also for their intentions who have their names on the slates.
URL:https://www.stmarysgy.org.uk/event/funeral-mass-joyce-hastings/
LOCATION:St. Mary's Church\, Regent Road\, Great Yarmouth\, Norfolk\, NR30 2AJ\, United Kingdom
CATEGORIES:Celebration Mass
END:VEVENT
BEGIN:VEVENT
DTSTART;TZID=Europe/London:20230527T160000
DTEND;TZID=Europe/London:20230527T190000
DTSTAMP:20260420T060632
CREATED:20230507T065423Z
LAST-MODIFIED:20230507T065515Z
UID:2122-1685203200-1685214000@www.stmarysgy.org.uk
SUMMARY:Fund raising by St Mary’s East Timor Community
DESCRIPTION:
URL:https://www.stmarysgy.org.uk/event/fund-raising-by-st-marys-east-timor-community/
LOCATION:St. Mary's Church Hall\, Regent Road\, Great Yarmouth\, Norfolk\, NR30 2AJ\, United Kingdom
CATEGORIES:Fund Raising Event
END:VEVENT
BEGIN:VEVENT
DTSTART;TZID=Europe/London:20230513T193000
DTEND;TZID=Europe/London:20230513T230000
DTSTAMP:20260420T060632
CREATED:20230329T132816Z
LAST-MODIFIED:20230505T082208Z
UID:2067-1684006200-1684018800@www.stmarysgy.org.uk
SUMMARY:The Catenian Association - Charity Race Night
DESCRIPTION:It is with great regret that this event has been postponed until later in the year. \nThank you for your support and we look forward to seeing you soon.
URL:https://www.stmarysgy.org.uk/event/the-catenian-association-charity-race-night/
LOCATION:Cliff Hotel - Gorleston\, Cliff Hill\, Gorleston on Sea\, Norfolk\, NR31 6DH\, United Kingdom
ORGANIZER;CN="Tony Baker - Catenians":MAILTO:tonybaker@bushlite.co.uk
END:VEVENT
BEGIN:VEVENT
DTSTART;TZID=Europe/London:20230512T180000
DTEND;TZID=Europe/London:20230512T190000
DTSTAMP:20260420T060632
CREATED:20230507T065221Z
LAST-MODIFIED:20230507T065225Z
UID:2120-1683914400-1683918000@www.stmarysgy.org.uk
SUMMARY:Mass for the Celebration of our Lady of Fatima
DESCRIPTION:
URL:https://www.stmarysgy.org.uk/event/mass-for-the-celebration-of-our-lady-of-fatima/
LOCATION:St. Mary's Church\, Regent Road\, Great Yarmouth\, Norfolk\, NR30 2AJ\, United Kingdom
CATEGORIES:Celebration Mass
END:VEVENT
END:VCALENDAR