BEGIN:VCALENDAR
VERSION:2.0
PRODID:-//St. Mary&#039;s Catholic Church - ECPv6.9.0//NONSGML v1.0//EN
CALSCALE:GREGORIAN
METHOD:PUBLISH
X-ORIGINAL-URL:https://www.stmarysgy.org.uk
X-WR-CALDESC:Events for St. Mary&#039;s Catholic Church
REFRESH-INTERVAL;VALUE=DURATION:PT1H
X-Robots-Tag:noindex
X-PUBLISHED-TTL:PT1H
BEGIN:VTIMEZONE
TZID:Europe/London
BEGIN:DAYLIGHT
TZOFFSETFROM:+0000
TZOFFSETTO:+0100
TZNAME:BST
DTSTART:20260329T010000
END:DAYLIGHT
BEGIN:STANDARD
TZOFFSETFROM:+0100
TZOFFSETTO:+0000
TZNAME:GMT
DTSTART:20261025T010000
END:STANDARD
END:VTIMEZONE
BEGIN:VEVENT
DTSTART;TZID=Europe/London:20260422T110000
DTEND;TZID=Europe/London:20260422T123000
DTSTAMP:20260420T071307
CREATED:20260419T074039Z
LAST-MODIFIED:20260419T074039Z
UID:2946-1776855600-1776861000@www.stmarysgy.org.uk
SUMMARY:Bill Howell R.I.P.
DESCRIPTION:The Funeral Mass for Bill Howell will take place in St. Peters Church Gorleston on the 22 April 2026 at 11:00am.
URL:https://www.stmarysgy.org.uk/event/bill-howell-r-i-p/
LOCATION:St. Peter's Church - Gorleston\, Lowestoft Road\, Gorleston on Sea\, Norfolk\, NR31 6SQ\, United Kingdom
CATEGORIES:Funeral
END:VEVENT
END:VCALENDAR