BEGIN:VCALENDAR
VERSION:2.0
PRODID:-//St. Mary&#039;s Catholic Church - ECPv6.9.0//NONSGML v1.0//EN
CALSCALE:GREGORIAN
METHOD:PUBLISH
X-ORIGINAL-URL:https://www.stmarysgy.org.uk
X-WR-CALDESC:Events for St. Mary&#039;s Catholic Church
REFRESH-INTERVAL;VALUE=DURATION:PT1H
X-Robots-Tag:noindex
X-PUBLISHED-TTL:PT1H
BEGIN:VTIMEZONE
TZID:Europe/London
BEGIN:DAYLIGHT
TZOFFSETFROM:+0000
TZOFFSETTO:+0100
TZNAME:BST
DTSTART:20240331T010000
END:DAYLIGHT
BEGIN:STANDARD
TZOFFSETFROM:+0100
TZOFFSETTO:+0000
TZNAME:GMT
DTSTART:20241027T010000
END:STANDARD
BEGIN:DAYLIGHT
TZOFFSETFROM:+0000
TZOFFSETTO:+0100
TZNAME:BST
DTSTART:20250330T010000
END:DAYLIGHT
BEGIN:STANDARD
TZOFFSETFROM:+0100
TZOFFSETTO:+0000
TZNAME:GMT
DTSTART:20251026T010000
END:STANDARD
BEGIN:DAYLIGHT
TZOFFSETFROM:+0000
TZOFFSETTO:+0100
TZNAME:BST
DTSTART:20260329T010000
END:DAYLIGHT
BEGIN:STANDARD
TZOFFSETFROM:+0100
TZOFFSETTO:+0000
TZNAME:GMT
DTSTART:20261025T010000
END:STANDARD
END:VTIMEZONE
BEGIN:VEVENT
DTSTART;TZID=Europe/London:20240508T100000
DTEND;TZID=Europe/London:20240508T230000
DTSTAMP:20260421T225300
CREATED:20240429T072809Z
LAST-MODIFIED:20240429T073327Z
UID:2503-1715162400-1715209200@www.stmarysgy.org.uk
SUMMARY:Linda McGurk R.I.P.
DESCRIPTION:The Funeral Mass of Linda McGurk who died recently\, will be at St Mary’s on Wednesday\, 8 May at 10:00 am. May God grant eternal rest to her soul and give consolation to her family and friends\, especial her son.
URL:https://www.stmarysgy.org.uk/event/linda-mcgurk-r-i-p/
LOCATION:St. Mary's Church\, Regent Road\, Great Yarmouth\, Norfolk\, NR30 2AJ\, United Kingdom
CATEGORIES:Funeral
END:VEVENT
BEGIN:VEVENT
DTSTART;TZID=Europe/London:20240602T110000
DTEND;TZID=Europe/London:20240602T120000
DTSTAMP:20260421T225300
CREATED:20230119T113206Z
LAST-MODIFIED:20230119T143240Z
UID:1959-1717326000-1717329600@www.stmarysgy.org.uk
SUMMARY:Mass for the intentions of the Roof Slates
DESCRIPTION:Mass for the intentions of the Roof Slates will take place today at St. Mary's Church. \nThis will be an annual event in St Mary's Calendar and will take place on the 1st Sunday in June every year. \nMass will be offered for the Sponsors of the slates and also for their intentions who have their names on the slates.
URL:https://www.stmarysgy.org.uk/event/mass-for-the-intentions-of-the-roof-slates/
LOCATION:St. Mary's Church\, Regent Road\, Great Yarmouth\, Norfolk\, NR30 2AJ\, United Kingdom
CATEGORIES:Celebration Mass
END:VEVENT
BEGIN:VEVENT
DTSTART;TZID=Europe/London:20240614T110000
DTEND;TZID=Europe/London:20240614T123000
DTSTAMP:20260421T225300
CREATED:20240602T062146Z
LAST-MODIFIED:20240602T062146Z
UID:2518-1718362800-1718368200@www.stmarysgy.org.uk
SUMMARY:Bryan Richard Conway R.I.P.
DESCRIPTION:Richard passed away recently. May God grant eternal rest to him and consolation to his family and friends. Richard’s requiem Mass will be on Friday 14th June at 11 am in St Mary’s.
URL:https://www.stmarysgy.org.uk/event/bryan-richard-conway-r-i-p/
LOCATION:St. Mary's Church\, Regent Road\, Great Yarmouth\, Norfolk\, NR30 2AJ\, United Kingdom
CATEGORIES:Funeral
END:VEVENT
BEGIN:VEVENT
DTSTART;TZID=Europe/London:20240615T010000
DTEND;TZID=Europe/London:20240615T040000
DTSTAMP:20260421T225300
CREATED:20240603T141059Z
LAST-MODIFIED:20240603T151941Z
UID:2524-1718413200-1718424000@www.stmarysgy.org.uk
SUMMARY:Hill House Afternoon Tea And Bake Sale
DESCRIPTION:The Hill House Afternoon Tea And Bake Sale will take place on Saturday\, 15th June at Hill House\, 23 Ormesby Road\, Caister\, NR30 5QJ. You could get your Ticket in advance\, or you pay on the day at £5. Price includes unlimited tea or coffee\, sandwich or roll and a cake of your choice! Looking forward to seeing you there.\ntea party poster
URL:https://www.stmarysgy.org.uk/event/hill-house-afternoon-tea-and-bake-sale/
LOCATION:Hill House\, 23 Ormesby Rd\, Caister\, NR30 5QJ\, 23 Ormesby Rd\, Caister on Sea\, Norfolk\, NR30 5QJ\, United Kingdom
CATEGORIES:Fund Raising Event
END:VEVENT
BEGIN:VEVENT
DTSTART;TZID=Europe/London:20240628T110000
DTEND;TZID=Europe/London:20240628T123000
DTSTAMP:20260421T225300
CREATED:20240602T062611Z
LAST-MODIFIED:20240602T062611Z
UID:2520-1719572400-1719577800@www.stmarysgy.org.uk
SUMMARY:Rita Ann Mary Potts R.I.P.
DESCRIPTION:Rita Ann Mary Potts WHO passed away recently. May God grant eternal rest to her and consolation to her family and friends. Rita’s Funeral SErvice will be on Friday 28th June at 11 am in St Mary’s.
URL:https://www.stmarysgy.org.uk/event/rita-ann-mary-potts-r-i-p/
LOCATION:St. Mary's Church\, Regent Road\, Great Yarmouth\, Norfolk\, NR30 2AJ\, United Kingdom
CATEGORIES:Funeral
END:VEVENT
BEGIN:VEVENT
DTSTART;TZID=Europe/London:20240721T110000
DTEND;TZID=Europe/London:20240721T140000
DTSTAMP:20260421T225300
CREATED:20240616T060640Z
LAST-MODIFIED:20240616T063052Z
UID:2541-1721559600-1721570400@www.stmarysgy.org.uk
SUMMARY:Mayor Civic Service
DESCRIPTION:A Civic Service will be held in honour of the new Mayor of the Great Yarmouth Borough.\nCouncillor Paula Waters-Bunn will have her Civil Service at St Mary’s Great Yarmouth on the 21st of July\, at the 11am Mass.\nA reception will follow the 11am Mass in the hall. All are welcome.
URL:https://www.stmarysgy.org.uk/event/mayor-civic-service/
LOCATION:St. Mary's Church\, Regent Road\, Great Yarmouth\, Norfolk\, NR30 2AJ\, United Kingdom
CATEGORIES:Council Civic Service
END:VEVENT
BEGIN:VEVENT
DTSTART;TZID=Europe/London:20240725T133000
DTEND;TZID=Europe/London:20240725T143000
DTSTAMP:20260421T225301
CREATED:20240721T055805Z
LAST-MODIFIED:20240721T055805Z
UID:2566-1721914200-1721917800@www.stmarysgy.org.uk
SUMMARY:Kevin Dennis O'Flynn
DESCRIPTION:who passed away recently. May God grant eternal rest to him and consolation to his family and friends. Kevin’s funeral service will be on Thursday 25th July at 1:30 pm in St Ignatius\, Caister.
URL:https://www.stmarysgy.org.uk/event/kevin-dennis-oflynn/
LOCATION:St. Ignatius Loyola\, Ormesby Road\, Caister on Sea\, Norfolk\, NR30 5LJ\, United Kingdom
CATEGORIES:Funeral
END:VEVENT
BEGIN:VEVENT
DTSTART;TZID=Europe/London:20240820T110000
DTEND;TZID=Europe/London:20240820T123000
DTSTAMP:20260421T225301
CREATED:20240721T055535Z
LAST-MODIFIED:20240804T061636Z
UID:2564-1724151600-1724157000@www.stmarysgy.org.uk
SUMMARY:Terry Dyer R.I.P.
DESCRIPTION:Terry Dyer who passed away recently. May God grant eternal rest to her and consolation to her family and friends.Terry's requiem Mass\nwill be in St Mary’s\, GY on Tuesday 20th August at 11:00 am.
URL:https://www.stmarysgy.org.uk/event/terry-dyer-r-i-p/
LOCATION:St. Mary's Church\, Regent Road\, Great Yarmouth\, Norfolk\, NR30 2AJ\, United Kingdom
CATEGORIES:Funeral
END:VEVENT
BEGIN:VEVENT
DTSTART;TZID=Europe/London:20250307T100000
DTEND;TZID=Europe/London:20250307T110000
DTSTAMP:20260421T225301
CREATED:20250223T075818Z
LAST-MODIFIED:20250223T075818Z
UID:2728-1741341600-1741345200@www.stmarysgy.org.uk
SUMMARY:R.I.P. Ronald (Ron) Harrison
DESCRIPTION:Ronald (Ron) Harrison who passed away recently will be received in St Mary’s Church at 4:30 pm on Thursday 6th of March and his requiem mass will be on Friday 7th of March at 10:00 am in St Mary’s Church. \nMay God grant eternal rest to him and consolation to his family and friends.
URL:https://www.stmarysgy.org.uk/event/r-i-p-ronald-ron-harrison/
LOCATION:St. Mary's Church\, Regent Road\, Great Yarmouth\, Norfolk\, NR30 2AJ\, United Kingdom
CATEGORIES:Funeral
END:VEVENT
BEGIN:VEVENT
DTSTART;TZID=Europe/London:20250805T170000
DTEND;TZID=Europe/London:20250805T183000
DTSTAMP:20260421T225301
CREATED:20250727T081124Z
LAST-MODIFIED:20250727T081144Z
UID:2814-1754413200-1754418600@www.stmarysgy.org.uk
SUMMARY:R.I.P. John (Ian) McCabe
DESCRIPTION:Funeral Mass for John (Ian) McCabe: who was a parishioner of St Mary’s\, but worshiped at St Ignatius in Caister.  \nThis is a remembrance Mass and will take place at St Ignatius\, Caister\, on Tuesday 5th August at 5:00pm. \nPlease you are invited to join the parish to pray for the repose of John and to show him your last respect. May his soul and all the departed rest in peace.
URL:https://www.stmarysgy.org.uk/event/r-i-p-john-ian-mccabe/
LOCATION:St. Ignatius Loyola\, Ormesby Road\, Caister on Sea\, Norfolk\, NR30 5LJ\, United Kingdom
CATEGORIES:Funeral
END:VEVENT
BEGIN:VEVENT
DTSTART;TZID=Europe/London:20250918T123000
DTEND;TZID=Europe/London:20250918T133000
DTSTAMP:20260421T225301
CREATED:20250824T083043Z
LAST-MODIFIED:20250824T083043Z
UID:2831-1758198600-1758202200@www.stmarysgy.org.uk
SUMMARY:Bridget Robinson R.I.P.
DESCRIPTION:Bridget Robinson (R.I.P):\nWe continue to pray for the repose of our dear sister and for the family she left behind.\nBridget's Funeral Mass will be on the 18th of September at 12.30pm at St Peter’s church.
URL:https://www.stmarysgy.org.uk/event/bridget-robinson-r-i-p/
LOCATION:St. Peter's Church - Gorleston\, Lowestoft Road\, Gorleston on Sea\, Norfolk\, NR31 6SQ\, United Kingdom
CATEGORIES:Funeral
END:VEVENT
BEGIN:VEVENT
DTSTART;TZID=Europe/London:20260422T110000
DTEND;TZID=Europe/London:20260422T123000
DTSTAMP:20260421T225301
CREATED:20260419T074039Z
LAST-MODIFIED:20260419T074039Z
UID:2946-1776855600-1776861000@www.stmarysgy.org.uk
SUMMARY:Bill Howell R.I.P.
DESCRIPTION:The Funeral Mass for Bill Howell will take place in St. Peters Church Gorleston on the 22 April 2026 at 11:00am.
URL:https://www.stmarysgy.org.uk/event/bill-howell-r-i-p/
LOCATION:St. Peter's Church - Gorleston\, Lowestoft Road\, Gorleston on Sea\, Norfolk\, NR31 6SQ\, United Kingdom
CATEGORIES:Funeral
END:VEVENT
END:VCALENDAR