BEGIN:VCALENDAR
VERSION:2.0
PRODID:-//St. Mary&#039;s Catholic Church - ECPv6.9.0//NONSGML v1.0//EN
CALSCALE:GREGORIAN
METHOD:PUBLISH
X-ORIGINAL-URL:https://www.stmarysgy.org.uk
X-WR-CALDESC:Events for St. Mary&#039;s Catholic Church
REFRESH-INTERVAL;VALUE=DURATION:PT1H
X-Robots-Tag:noindex
X-PUBLISHED-TTL:PT1H
BEGIN:VTIMEZONE
TZID:Europe/London
BEGIN:DAYLIGHT
TZOFFSETFROM:+0000
TZOFFSETTO:+0100
TZNAME:BST
DTSTART:20240331T010000
END:DAYLIGHT
BEGIN:STANDARD
TZOFFSETFROM:+0100
TZOFFSETTO:+0000
TZNAME:GMT
DTSTART:20241027T010000
END:STANDARD
END:VTIMEZONE
BEGIN:VEVENT
DTSTART;TZID=Europe/London:20240628T110000
DTEND;TZID=Europe/London:20240628T123000
DTSTAMP:20260421T111646
CREATED:20240602T062611Z
LAST-MODIFIED:20240602T062611Z
UID:2520-1719572400-1719577800@www.stmarysgy.org.uk
SUMMARY:Rita Ann Mary Potts R.I.P.
DESCRIPTION:Rita Ann Mary Potts WHO passed away recently. May God grant eternal rest to her and consolation to her family and friends. Rita’s Funeral SErvice will be on Friday 28th June at 11 am in St Mary’s.
URL:https://www.stmarysgy.org.uk/event/rita-ann-mary-potts-r-i-p/
LOCATION:St. Mary's Church\, Regent Road\, Great Yarmouth\, Norfolk\, NR30 2AJ\, United Kingdom
CATEGORIES:Funeral
END:VEVENT
END:VCALENDAR