BEGIN:VCALENDAR
VERSION:2.0
PRODID:-//St. Mary&#039;s Catholic Church - ECPv6.9.0//NONSGML v1.0//EN
CALSCALE:GREGORIAN
METHOD:PUBLISH
X-WR-CALNAME:St. Mary&#039;s Catholic Church
X-ORIGINAL-URL:https://www.stmarysgy.org.uk
X-WR-CALDESC:Events for St. Mary&#039;s Catholic Church
REFRESH-INTERVAL;VALUE=DURATION:PT1H
X-Robots-Tag:noindex
X-PUBLISHED-TTL:PT1H
BEGIN:VTIMEZONE
TZID:Europe/London
BEGIN:DAYLIGHT
TZOFFSETFROM:+0000
TZOFFSETTO:+0100
TZNAME:BST
DTSTART:20240331T010000
END:DAYLIGHT
BEGIN:STANDARD
TZOFFSETFROM:+0100
TZOFFSETTO:+0000
TZNAME:GMT
DTSTART:20241027T010000
END:STANDARD
END:VTIMEZONE
BEGIN:VEVENT
DTSTART;TZID=Europe/London:20240417T190000
DTEND;TZID=Europe/London:20240417T210000
DTSTAMP:20260421T142108
CREATED:20240302T182305Z
LAST-MODIFIED:20240302T182305Z
UID:2461-1713380400-1713387600@www.stmarysgy.org.uk
SUMMARY:Defibrillator Training
DESCRIPTION:Having announced the installation of our new defibrillator\, Jayne Biggs\, the founder of Heart 2 Heart Norfolk who donated the Defibrillator will be providing much needed training to all parishioners on how to use the defibrillator.\nThe first session has been arranged for Wednesday 17 April 2024 at 7pm in St. Mary's Church Hall.\nAnyone interested in doing the training\, (age is no barrier\, children welcome) please send contact the parish office.\nFurther training events will be organised when we know how many wish to attend\, please come along.
URL:https://www.stmarysgy.org.uk/event/defibrillator-training/
LOCATION:St. Mary's Church Hall\, Regent Road\, Great Yarmouth\, Norfolk\, NR30 2AJ\, United Kingdom
CATEGORIES:Training
END:VEVENT
END:VCALENDAR