BEGIN:VCALENDAR
VERSION:2.0
PRODID:-//St. Mary&#039;s Catholic Church - ECPv6.9.0//NONSGML v1.0//EN
CALSCALE:GREGORIAN
METHOD:PUBLISH
X-WR-CALNAME:St. Mary&#039;s Catholic Church
X-ORIGINAL-URL:https://www.stmarysgy.org.uk
X-WR-CALDESC:Events for St. Mary&#039;s Catholic Church
REFRESH-INTERVAL;VALUE=DURATION:PT1H
X-Robots-Tag:noindex
X-PUBLISHED-TTL:PT1H
BEGIN:VTIMEZONE
TZID:Europe/London
BEGIN:DAYLIGHT
TZOFFSETFROM:+0000
TZOFFSETTO:+0100
TZNAME:BST
DTSTART:20230326T010000
END:DAYLIGHT
BEGIN:STANDARD
TZOFFSETFROM:+0100
TZOFFSETTO:+0000
TZNAME:GMT
DTSTART:20231029T010000
END:STANDARD
END:VTIMEZONE
BEGIN:VEVENT
DTSTART;TZID=Europe/London:20230820T090000
DTEND;TZID=Europe/London:20230820T220000
DTSTAMP:20260422T125735
CREATED:20230813T052539Z
LAST-MODIFIED:20230813T052539Z
UID:2226-1692522000-1692568800@www.stmarysgy.org.uk
SUMMARY:Brian Lafferty's Thanksgiving Mass
DESCRIPTION:Greetings\, seven (7) years ago\, almost to the day\, I received the diagnosis of Colon Cancer and was informed that I needed an operation on 1st November 2017 (All Saints Day). It turned out to be a surprisingly fitting day for such an event. Two years later\, I underwent surgery to remove a piece of my lung because a cancer cell had managed to survive the six months of chemotherapy and had settled there. The discovery was made by my surgeon the day after a routine scan. Since then\, I have been under the diligent care of Mr. Velchuru\, the surgeon referred to me by my GP. \nOn 1st August 2023\, I had another examination\, and I received the joyous news that I am now discharged and declared Cancer-free\, back to the care of my GP. \nThroughout this journey\, the support and kindness shown by countless individuals\, including many I have not even be aware of\, has been profoundly humbling. I am immensely grateful for all the prayers\, mass cards\, well-wishes\, and thoughts extended to me and my family over the years. \nOn Sunday 20 August 2023\, St. Mary's Sunday mass at 09:00 will be dedicated to everyone who helped and prayed for me and my family during my illness\, life would have been harder without your prayers and support\, Thank you. \nThere are far too many people to thank than I can get on this list but most importantly\, I need to thank Janice\, my rock during it all and my Surgeon\, Mr. Velchuru and the wonderful staff at the James Paget Hospital and the Norfolk & Norwich Hospital\, they are all aptly named 'Angels.'
URL:https://www.stmarysgy.org.uk/event/brian-laffertys-thanksgiving-mass/
LOCATION:St. Mary's Church\, Regent Road\, Great Yarmouth\, Norfolk\, NR30 2AJ\, United Kingdom
CATEGORIES:Celebration Mass
END:VEVENT
END:VCALENDAR