BEGIN:VCALENDAR
VERSION:2.0
PRODID:-//St. Mary&#039;s Catholic Church - ECPv6.9.0//NONSGML v1.0//EN
CALSCALE:GREGORIAN
METHOD:PUBLISH
X-WR-CALNAME:St. Mary&#039;s Catholic Church
X-ORIGINAL-URL:https://www.stmarysgy.org.uk
X-WR-CALDESC:Events for St. Mary&#039;s Catholic Church
REFRESH-INTERVAL;VALUE=DURATION:PT1H
X-Robots-Tag:noindex
X-PUBLISHED-TTL:PT1H
BEGIN:VTIMEZONE
TZID:Europe/London
BEGIN:DAYLIGHT
TZOFFSETFROM:+0000
TZOFFSETTO:+0100
TZNAME:BST
DTSTART:20230326T010000
END:DAYLIGHT
BEGIN:STANDARD
TZOFFSETFROM:+0100
TZOFFSETTO:+0000
TZNAME:GMT
DTSTART:20231029T010000
END:STANDARD
END:VTIMEZONE
BEGIN:VEVENT
DTSTART;TZID=Europe/London:20230708T190000
DTEND;TZID=Europe/London:20230708T213000
DTSTAMP:20260423T021054
CREATED:20230219T082220Z
LAST-MODIFIED:20230312T075013Z
UID:2014-1688842800-1688851800@www.stmarysgy.org.uk
SUMMARY:GORLESTON COMMUNITY CHOIR PRESENTS - SONGS FROM THE HEART
DESCRIPTION:
URL:https://www.stmarysgy.org.uk/event/gorleston-community-choir/
LOCATION:St. Mary's Church\, Regent Road\, Great Yarmouth\, Norfolk\, NR30 2AJ\, United Kingdom
CATEGORIES:Concert
END:VEVENT
END:VCALENDAR